BEGIN:VCALENDAR
VERSION:2.0
PRODID:-//EFS-Kyrkan i Ängelholm - ECPv6.15.20//NONSGML v1.0//EN
CALSCALE:GREGORIAN
METHOD:PUBLISH
X-WR-CALNAME:EFS-Kyrkan i Ängelholm
X-ORIGINAL-URL:https://efs-kyrkan.info
X-WR-CALDESC:Händelser för EFS-Kyrkan i Ängelholm
REFRESH-INTERVAL;VALUE=DURATION:PT1H
X-Robots-Tag:noindex
X-PUBLISHED-TTL:PT1H
BEGIN:VTIMEZONE
TZID:Europe/Stockholm
BEGIN:DAYLIGHT
TZOFFSETFROM:+0100
TZOFFSETTO:+0200
TZNAME:CEST
DTSTART:20250330T010000
END:DAYLIGHT
BEGIN:STANDARD
TZOFFSETFROM:+0200
TZOFFSETTO:+0100
TZNAME:CET
DTSTART:20251026T010000
END:STANDARD
BEGIN:DAYLIGHT
TZOFFSETFROM:+0100
TZOFFSETTO:+0200
TZNAME:CEST
DTSTART:20260329T010000
END:DAYLIGHT
BEGIN:STANDARD
TZOFFSETFROM:+0200
TZOFFSETTO:+0100
TZNAME:CET
DTSTART:20261025T010000
END:STANDARD
BEGIN:DAYLIGHT
TZOFFSETFROM:+0100
TZOFFSETTO:+0200
TZNAME:CEST
DTSTART:20270328T010000
END:DAYLIGHT
BEGIN:STANDARD
TZOFFSETFROM:+0200
TZOFFSETTO:+0100
TZNAME:CET
DTSTART:20271031T010000
END:STANDARD
END:VTIMEZONE
BEGIN:VEVENT
DTSTART;TZID=Europe/Stockholm:20260426T100000
DTEND;TZID=Europe/Stockholm:20260426T113000
DTSTAMP:20260423T164754
CREATED:20251124T194937Z
LAST-MODIFIED:20260323T200824Z
UID:10004270-1777197600-1777203000@efs-kyrkan.info
SUMMARY:Gudstjänst
DESCRIPTION:Välkommen till gudstjänst i EFS-kyrkan på Metallgatan 31 i Ängelholm. \nTillsammans får vi be\, sjunga\, lyssna på undervisning och dela gemenskapen runt fikaborden. \nHar du inte möjlighet att ta dig till kyrkan på Metallgatan 31  kan du följa gudstjänsten via vår livesändning här. 
URL:https://efs-kyrkan.info/kalender/gudstjanst-245/2026-04-26/
END:VEVENT
BEGIN:VEVENT
DTSTART;TZID=Europe/Stockholm:20260503T100000
DTEND;TZID=Europe/Stockholm:20260503T113000
DTSTAMP:20260423T164754
CREATED:20251124T194937Z
LAST-MODIFIED:20260323T200824Z
UID:10004271-1777802400-1777807800@efs-kyrkan.info
SUMMARY:Gudstjänst
DESCRIPTION:Välkommen till gudstjänst i EFS-kyrkan på Metallgatan 31 i Ängelholm. \nTillsammans får vi be\, sjunga\, lyssna på undervisning och dela gemenskapen runt fikaborden. \nHar du inte möjlighet att ta dig till kyrkan på Metallgatan 31  kan du följa gudstjänsten via vår livesändning här. 
URL:https://efs-kyrkan.info/kalender/gudstjanst-245/2026-05-03/
END:VEVENT
BEGIN:VEVENT
DTSTART;TZID=Europe/Stockholm:20260510T100000
DTEND;TZID=Europe/Stockholm:20260510T113000
DTSTAMP:20260423T164754
CREATED:20251124T194937Z
LAST-MODIFIED:20260323T200824Z
UID:10004272-1778407200-1778412600@efs-kyrkan.info
SUMMARY:Gudstjänst
DESCRIPTION:Välkommen till gudstjänst i EFS-kyrkan på Metallgatan 31 i Ängelholm. \nTillsammans får vi be\, sjunga\, lyssna på undervisning och dela gemenskapen runt fikaborden. \nHar du inte möjlighet att ta dig till kyrkan på Metallgatan 31  kan du följa gudstjänsten via vår livesändning här. 
URL:https://efs-kyrkan.info/kalender/gudstjanst-245/2026-05-10/
END:VEVENT
BEGIN:VEVENT
DTSTART;TZID=Europe/Stockholm:20260517T100000
DTEND;TZID=Europe/Stockholm:20260517T113000
DTSTAMP:20260423T164754
CREATED:20251124T194937Z
LAST-MODIFIED:20260323T200824Z
UID:10004273-1779012000-1779017400@efs-kyrkan.info
SUMMARY:Gudstjänst
DESCRIPTION:Välkommen till gudstjänst i EFS-kyrkan på Metallgatan 31 i Ängelholm. \nTillsammans får vi be\, sjunga\, lyssna på undervisning och dela gemenskapen runt fikaborden. \nHar du inte möjlighet att ta dig till kyrkan på Metallgatan 31  kan du följa gudstjänsten via vår livesändning här. 
URL:https://efs-kyrkan.info/kalender/gudstjanst-245/2026-05-17/
END:VEVENT
BEGIN:VEVENT
DTSTART;TZID=Europe/Stockholm:20260524T100000
DTEND;TZID=Europe/Stockholm:20260524T113000
DTSTAMP:20260423T164754
CREATED:20251124T194937Z
LAST-MODIFIED:20260323T200824Z
UID:10004274-1779616800-1779622200@efs-kyrkan.info
SUMMARY:Gudstjänst
DESCRIPTION:Välkommen till gudstjänst i EFS-kyrkan på Metallgatan 31 i Ängelholm. \nTillsammans får vi be\, sjunga\, lyssna på undervisning och dela gemenskapen runt fikaborden. \nHar du inte möjlighet att ta dig till kyrkan på Metallgatan 31  kan du följa gudstjänsten via vår livesändning här. 
URL:https://efs-kyrkan.info/kalender/gudstjanst-245/2026-05-24/
END:VEVENT
BEGIN:VEVENT
DTSTART;TZID=Europe/Stockholm:20260531T100000
DTEND;TZID=Europe/Stockholm:20260531T113000
DTSTAMP:20260423T164754
CREATED:20251124T194937Z
LAST-MODIFIED:20260323T200824Z
UID:10004275-1780221600-1780227000@efs-kyrkan.info
SUMMARY:Gudstjänst
DESCRIPTION:Välkommen till gudstjänst i EFS-kyrkan på Metallgatan 31 i Ängelholm. \nTillsammans får vi be\, sjunga\, lyssna på undervisning och dela gemenskapen runt fikaborden. \nHar du inte möjlighet att ta dig till kyrkan på Metallgatan 31  kan du följa gudstjänsten via vår livesändning här. 
URL:https://efs-kyrkan.info/kalender/gudstjanst-245/2026-05-31/
END:VEVENT
END:VCALENDAR