BEGIN:VCALENDAR
VERSION:2.0
PRODID:-//EFS-Kyrkan i Ängelholm - ECPv6.15.20//NONSGML v1.0//EN
CALSCALE:GREGORIAN
METHOD:PUBLISH
X-ORIGINAL-URL:https://efs-kyrkan.info
X-WR-CALDESC:Händelser för EFS-Kyrkan i Ängelholm
REFRESH-INTERVAL;VALUE=DURATION:PT1H
X-Robots-Tag:noindex
X-PUBLISHED-TTL:PT1H
BEGIN:VTIMEZONE
TZID:Europe/Stockholm
BEGIN:DAYLIGHT
TZOFFSETFROM:+0100
TZOFFSETTO:+0200
TZNAME:CEST
DTSTART:20200329T010000
END:DAYLIGHT
BEGIN:STANDARD
TZOFFSETFROM:+0200
TZOFFSETTO:+0100
TZNAME:CET
DTSTART:20201025T010000
END:STANDARD
BEGIN:DAYLIGHT
TZOFFSETFROM:+0100
TZOFFSETTO:+0200
TZNAME:CEST
DTSTART:20210328T010000
END:DAYLIGHT
BEGIN:STANDARD
TZOFFSETFROM:+0200
TZOFFSETTO:+0100
TZNAME:CET
DTSTART:20211031T010000
END:STANDARD
BEGIN:DAYLIGHT
TZOFFSETFROM:+0100
TZOFFSETTO:+0200
TZNAME:CEST
DTSTART:20220327T010000
END:DAYLIGHT
BEGIN:STANDARD
TZOFFSETFROM:+0200
TZOFFSETTO:+0100
TZNAME:CET
DTSTART:20221030T010000
END:STANDARD
END:VTIMEZONE
BEGIN:VEVENT
DTSTART;TZID=Europe/Stockholm:20210703T090000
DTEND;TZID=Europe/Stockholm:20210703T110000
DTSTAMP:20260421T104618
CREATED:20210518T124336Z
LAST-MODIFIED:20210701T052530Z
UID:10002502-1625302800-1625310000@efs-kyrkan.info
SUMMARY:Sommarkul
DESCRIPTION:Kolla hit alla barn – kör vi ”Sommarkul”! Lördagar klockan 9 till 11 är barn i alla åldrar välkomna till kyrkans gräsmatta för att hitta på några roliga aktiviteter och få höra om Jesus. \nIdag står det scouter på programmet.
URL:https://efs-kyrkan.info/kalender/sommarkul-2021-06-12/2021-07-03/
END:VEVENT
BEGIN:VEVENT
DTSTART;TZID=Europe/Stockholm:20210704T100000
DTEND;TZID=Europe/Stockholm:20210704T110000
DTSTAMP:20260421T104618
CREATED:20210518T133704Z
LAST-MODIFIED:20210630T052157Z
UID:10001388-1625392800-1625396400@efs-kyrkan.info
SUMMARY:Gudstjänst
DESCRIPTION:Temat för denna söndag är Sänd mig och det är Björn Hedström som predikar. \nDet finns möjlighet att fira gudstjänsten inne i kyrksalen (100 personer\, ingen anmälan)\, ute på kyrkans gräsmatta eller altan dit ljudet från scenen sänds ut eller via livesändningen på vår Youtube-kanal.  \nVälkommen!
URL:https://efs-kyrkan.info/kalender/gudstjanst-225-2021-07-04/
END:VEVENT
BEGIN:VEVENT
DTSTART;TZID=Europe/Stockholm:20210709T173000
DTEND;TZID=Europe/Stockholm:20210709T183000
DTSTAMP:20260421T104618
CREATED:20210602T124354Z
LAST-MODIFIED:20210602T124354Z
UID:10002510-1625851800-1625855400@efs-kyrkan.info
SUMMARY:Glow
DESCRIPTION:Glow är en dansgrupp för dig som går i årskurs 8 och uppåt. \nVi träffas och dansar utomhus under sommaren klockan 17.30-18.30 följande datum:\n10 juni\n24 juni\n9 juli\n23 juli\n6 augusti \nDet kan bli ändringar – är du inte med i dansgruppens chatt-grupp så dubbelkolla inför varje tillfälle med ledaren Helena Eriksson\, 0768 33 28 01.
URL:https://efs-kyrkan.info/kalender/glow-37/2021-07-09/
END:VEVENT
BEGIN:VEVENT
DTSTART;TZID=Europe/Stockholm:20210709T190000
DTEND;TZID=Europe/Stockholm:20210709T220000
DTSTAMP:20260421T104618
CREATED:20210610T133030Z
LAST-MODIFIED:20210610T133030Z
UID:10002514-1625857200-1625868000@efs-kyrkan.info
SUMMARY:Sommar-UG
DESCRIPTION:Välkommen alla ungdomar till sommar-UG! Vi träffas på EFS-kyrkans gräsmatta från klockan 19 och framåt. \nFör mer info – kolla in UG Ängelholm på Facebook!
URL:https://efs-kyrkan.info/kalender/sommar-ug-10/2021-07-09/
END:VEVENT
BEGIN:VEVENT
DTSTART;TZID=Europe/Stockholm:20210710T090000
DTEND;TZID=Europe/Stockholm:20210710T110000
DTSTAMP:20260421T104618
CREATED:20210518T124336Z
LAST-MODIFIED:20210701T052635Z
UID:10002498-1625907600-1625914800@efs-kyrkan.info
SUMMARY:Sommarkul
DESCRIPTION:Kolla hit alla barn – nu kör vi ”Sommarkul”! Lördagar klockan 9 till 11 är barn i alla åldrar välkomna till kyrkans gräsmatta för att hitta på några roliga aktiviteter och få höra om Jesus. \nIdag står det dans\, lek och sång på programmet.
URL:https://efs-kyrkan.info/kalender/sommarkul-2021-06-19/2021-07-10/
END:VEVENT
BEGIN:VEVENT
DTSTART;TZID=Europe/Stockholm:20210710T160000
DTEND;TZID=Europe/Stockholm:20210710T180000
DTSTAMP:20260421T104618
CREATED:20210611T095642Z
LAST-MODIFIED:20210705T192633Z
UID:10002559-1625932800-1625940000@efs-kyrkan.info
SUMMARY:Bilkurragömma
DESCRIPTION:Förra årets succé är tillbaka! I sommar blir det två kvällar med bilkurragömma – 10 juli och 19 augusti. \nVill du se hur det gick till förra sommaren\, så hittar du en go film här. \nSå här fungerar det: \nBILKURRAGÖMMA\nSamling: kl 16.00 på parkeringsplatsen i EFS-kyrkan\nLag: Minst 2 personer\, 1 förare 1 ledtrådläsare. Kan vara fler om man önskar.\nUtrustning: En bil\, en laddad mobil med Messenger och förslagsvis Google maps.\nRegler: Ett lag gömmer sig och sin bil inom det angivna området. Var tredje minut skriver det gömda laget ledtrådar via messenger till alla andra lag. Ledtrådarna bör bli successivt lättare…\nFörsta lag att hitta den gömda bilen vinner den omgången.\nBonuspris för det lag som efter samtliga spelomgångar har minst antal körda kilometer.\nGömd bil måste vara avstängd och parkerad på för bil avsedd väg/yta. Bilen måste vara synlig från 20m avstånd från 2 olika riktningar.\nAlla deltagare följer alla trafikregler under hela leken.\nOmråde för kurragömmat hittar du här.\nMer information vid samlingen. \nFör mer info: Fredrik Jönsson 0761 349 465\nIngen anmälan krävs
URL:https://efs-kyrkan.info/kalender/bilkurragomma-2/
END:VEVENT
BEGIN:VEVENT
DTSTART;TZID=Europe/Stockholm:20210711T100000
DTEND;TZID=Europe/Stockholm:20210711T110000
DTSTAMP:20260421T104618
CREATED:20210518T133704Z
LAST-MODIFIED:20210708T084205Z
UID:10001389-1625997600-1626001200@efs-kyrkan.info
SUMMARY:Gudstjänst
DESCRIPTION:Efterföljelse är temat för söndagens gudstjänst. Magnus Lennartsson predikar\, vi sjunger och ber tillsammans\, firar nattvard och har sen en fin gemenskap på altanen med vår medhavda kyrkfika. \n\n\n100 personer kan finnas på plats inne i kyrksalen (ingen anmälan)\, men det går även bra att sitta på kyrkans gräsmatta dit ljudet från scenen sänds ut och där nattvardsutdelandet sker. \n\n\nDu kan även följa gudstjänsten via vår livesändning på vår Youtube-kanal. \n\nVälkommen!
URL:https://efs-kyrkan.info/kalender/gudstjanst-225-2021-07-11/
END:VEVENT
BEGIN:VEVENT
DTSTART;TZID=Europe/Stockholm:20210714T170000
DTEND;TZID=Europe/Stockholm:20210714T190000
DTSTAMP:20260421T104618
CREATED:20210708T063204Z
LAST-MODIFIED:20210708T063204Z
UID:10002560-1626282000-1626289200@efs-kyrkan.info
SUMMARY:Kvinnoträff
DESCRIPTION:Alla kvinnor\, gamla som unga\, med eller utan barn\, är välkomna till Hembygdsparken i Ängelholm varannan onsdagskväll mellan klockan 17 och 19. Ta med dig lite picknick så äter vi tillsammans\, pratar\, leker\, stöttar varandra\, skrattar och har en fin gemenskap. \nFör mer info kontakta: \nBirgitta Jarbo: birgitta.jarbo@efs-kyrkan.info eller 073-3449111\nSara Engström: sara.engstrom@efs-kyrkan.info eller 079-3485272
URL:https://efs-kyrkan.info/kalender/kvinnotraff-68/2021-07-14/
END:VEVENT
BEGIN:VEVENT
DTSTART;TZID=Europe/Stockholm:20210717T090000
DTEND;TZID=Europe/Stockholm:20210717T110000
DTSTAMP:20260421T104618
CREATED:20210518T124336Z
LAST-MODIFIED:20210701T052825Z
UID:10002505-1626512400-1626519600@efs-kyrkan.info
SUMMARY:Sommarkul
DESCRIPTION:Idag är hela både barn och vuxna välkomna till kyrkans gräsmatta för att vara med på Sommarkul. Vi ska nämligen köra familje-KRIK! Det blir rörelse och träning för hela familjen och så får vi höra om Jesus. \nTiden är 9 till 11.
URL:https://efs-kyrkan.info/kalender/sommarkul-2021-06-05/2021-07-17/
END:VEVENT
BEGIN:VEVENT
DTSTART;TZID=Europe/Stockholm:20210718T100000
DTEND;TZID=Europe/Stockholm:20210718T110000
DTSTAMP:20260421T104618
CREATED:20210518T133704Z
LAST-MODIFIED:20210708T084105Z
UID:10001390-1626602400-1626606000@efs-kyrkan.info
SUMMARY:Gudstjänst
DESCRIPTION:Temat för denna söndag är Jesus förhärligad och det är Sara Engström som predikar. \nDet finns möjlighet att fira gudstjänsten inne i kyrksalen\, ute på kyrkans gräsmatta eller altan dit ljudet från scenen sänds ut eller via livesändningen på vår Youtube-kanal.  \nVälkommen!
URL:https://efs-kyrkan.info/kalender/gudstjanst-225-2021-07-18/
END:VEVENT
BEGIN:VEVENT
DTSTART;TZID=Europe/Stockholm:20210723T190000
DTEND;TZID=Europe/Stockholm:20210723T220000
DTSTAMP:20260421T104618
CREATED:20210610T133030Z
LAST-MODIFIED:20210610T133030Z
UID:10002515-1627066800-1627077600@efs-kyrkan.info
SUMMARY:Sommar-UG
DESCRIPTION:Välkommen alla ungdomar till sommar-UG! Vi träffas på EFS-kyrkans gräsmatta från klockan 19 och framåt. \nFör mer info – kolla in UG Ängelholm på Facebook!
URL:https://efs-kyrkan.info/kalender/sommar-ug-10/2021-07-23/
END:VEVENT
BEGIN:VEVENT
DTSTART;TZID=Europe/Stockholm:20210725T100000
DTEND;TZID=Europe/Stockholm:20210725T110000
DTSTAMP:20260421T104618
CREATED:20210518T133704Z
LAST-MODIFIED:20210708T084043Z
UID:10001391-1627207200-1627210800@efs-kyrkan.info
SUMMARY:Gudstjänst
DESCRIPTION:Temat för denna söndag är Andlig klarsyn och det är Lotta Lennartsson som predikar. \nDet finns möjlighet att fira gudstjänsten inne i kyrksalen\, ute på kyrkans gräsmatta eller altan dit ljudet från scenen sänds ut eller via livesändningen på vår Youtube-kanal.  \nVälkommen!
URL:https://efs-kyrkan.info/kalender/gudstjanst-225-2021-07-25/
END:VEVENT
BEGIN:VEVENT
DTSTART;TZID=Europe/Stockholm:20210728T170000
DTEND;TZID=Europe/Stockholm:20210728T190000
DTSTAMP:20260421T104618
CREATED:20210708T063204Z
LAST-MODIFIED:20210708T063204Z
UID:10002561-1627491600-1627498800@efs-kyrkan.info
SUMMARY:Kvinnoträff
DESCRIPTION:Alla kvinnor\, gamla som unga\, med eller utan barn\, är välkomna till Hembygdsparken i Ängelholm varannan onsdagskväll mellan klockan 17 och 19. Ta med dig lite picknick så äter vi tillsammans\, pratar\, leker\, stöttar varandra\, skrattar och har en fin gemenskap. \nFör mer info kontakta: \nBirgitta Jarbo: birgitta.jarbo@efs-kyrkan.info eller 073-3449111\nSara Engström: sara.engstrom@efs-kyrkan.info eller 079-3485272
URL:https://efs-kyrkan.info/kalender/kvinnotraff-68/2021-07-28/
END:VEVENT
BEGIN:VEVENT
DTSTART;TZID=Europe/Stockholm:20210730T190000
DTEND;TZID=Europe/Stockholm:20210730T220000
DTSTAMP:20260421T104618
CREATED:20210610T135649Z
LAST-MODIFIED:20210715T095132Z
UID:10002556-1627671600-1627682400@efs-kyrkan.info
SUMMARY:Turnéstopp med Ungdoms-OAS
DESCRIPTION:Ungdoms-OAS kör en repris från förra året och beger sig ut på turné längs västkusten i sommar. De stannar till på olika platser och har härliga och utmanande ungdomsmöte fyllt av lovsång\, gemenskap\, bön och undervisning. \nFredagen 30 juli blir det ett stopp i EFS-kyrkan i Ängelholm. Förutom OAS-gänget gästas vi av Sanna Välipakka som är engagerad i Hope for this nation. Hon kommer att ha ett seminarium på eftermiddagen samt prata vid mötet på kvällen. \nMed anledning av restriktioner behöver du anmäla dig på: https://forms.gle/Ki6YTP98dAQgBe4x7\n\nVarmt välkommen till en kväll som berör.
URL:https://efs-kyrkan.info/kalender/turnestopp-med-ungdoms-oas/
END:VEVENT
END:VCALENDAR