BEGIN:VCALENDAR
VERSION:2.0
PRODID:-//EFS-Kyrkan i Ängelholm - ECPv6.15.20//NONSGML v1.0//EN
CALSCALE:GREGORIAN
METHOD:PUBLISH
X-WR-CALNAME:EFS-Kyrkan i Ängelholm
X-ORIGINAL-URL:https://efs-kyrkan.info
X-WR-CALDESC:Händelser för EFS-Kyrkan i Ängelholm
REFRESH-INTERVAL;VALUE=DURATION:PT1H
X-Robots-Tag:noindex
X-PUBLISHED-TTL:PT1H
BEGIN:VTIMEZONE
TZID:Europe/Stockholm
BEGIN:DAYLIGHT
TZOFFSETFROM:+0100
TZOFFSETTO:+0200
TZNAME:CEST
DTSTART:20200329T010000
END:DAYLIGHT
BEGIN:STANDARD
TZOFFSETFROM:+0200
TZOFFSETTO:+0100
TZNAME:CET
DTSTART:20201025T010000
END:STANDARD
BEGIN:DAYLIGHT
TZOFFSETFROM:+0100
TZOFFSETTO:+0200
TZNAME:CEST
DTSTART:20210328T010000
END:DAYLIGHT
BEGIN:STANDARD
TZOFFSETFROM:+0200
TZOFFSETTO:+0100
TZNAME:CET
DTSTART:20211031T010000
END:STANDARD
BEGIN:DAYLIGHT
TZOFFSETFROM:+0100
TZOFFSETTO:+0200
TZNAME:CEST
DTSTART:20220327T010000
END:DAYLIGHT
BEGIN:STANDARD
TZOFFSETFROM:+0200
TZOFFSETTO:+0100
TZNAME:CET
DTSTART:20221030T010000
END:STANDARD
END:VTIMEZONE
BEGIN:VEVENT
DTSTART;TZID=Europe/Stockholm:20210605T090000
DTEND;TZID=Europe/Stockholm:20210605T110000
DTSTAMP:20260423T110854
CREATED:20210518T124336Z
LAST-MODIFIED:20210701T052825Z
UID:10002504-1622883600-1622890800@efs-kyrkan.info
SUMMARY:Sommarkul
DESCRIPTION:Idag är hela både barn och vuxna välkomna till kyrkans gräsmatta för att vara med på Sommarkul. Vi ska nämligen köra familje-KRIK! Det blir rörelse och träning för hela familjen och så får vi höra om Jesus. \nTiden är 9 till 11.
URL:https://efs-kyrkan.info/kalender/sommarkul-2021-06-05/2021-06-05/
END:VEVENT
BEGIN:VEVENT
DTSTART;TZID=Europe/Stockholm:20210606T100000
DTEND;TZID=Europe/Stockholm:20210606T110000
DTSTAMP:20260423T110854
CREATED:20210518T133704Z
LAST-MODIFIED:20210602T094946Z
UID:10002495-1622973600-1622977200@efs-kyrkan.info
SUMMARY:Gudstjänst
DESCRIPTION:Från och med den 1 juni får vi fira gudstjänst med fler människor på plats i och utanför kyrkan. Vilket vi tycker är väldigt glädjande! \nSå här kommer upplägget för våra gudstjänster i sommar att vara: \n\nInne i kyrksalen får 50 personer fira gudstjänst. För att få en av dessa platser anmäler du dig här nedanför.\nDet kommer att finnas högtalare vid altanen på baksidan av kyrkan som sänder ut ljudet inifrån scenen. Därför finns det möjlighet att följa gudstjänsten ute på en filt\, i en stol eller med sina barn i sandlådan (max 50 personer\, ingen anmälan).\nVi fortsätter även att livesända gudstjänsterna på vår Youtube-kanal.\nVi kommer att fira nattvard varje söndag i sommar. Efter predikan kommer en präst att bereda måltiden och när det är dags för utdelandet går man ut på altanen och delar ut nattvardsgåvorna där. Under tiden fortsätter lovsång att strömma ut i högtalarna.\nVill du som har suttit ute under gudstjänsten gå in i kyrksalen efteråt och få en stilla stund där\, så får du gärna göra det. Det går även bra att komma och ta emot nattvard om man har följt gudstjänsten via livesändningen.\nEtt tips är att ni tar med er en fikakorg\, så har vi en härlig kyrkfike-gemenskap där ute efter gudstjänsten.\n\nVi ser fram emot att få träffa många av er snart!\nVi följer självklart utvecklingen och skulle restriktionerna förändras så kommer vi ut med ny information. Håll utkik här på hemsidan\, på vår Facebook-sida eller Instagram (sök på efskyrkanahlm). \nTemat för denna söndag är ”Vårt dop” och det är Carl Skarin som predikar.
URL:https://efs-kyrkan.info/kalender/gudstjanst-225/
END:VEVENT
BEGIN:VEVENT
DTSTART;TZID=Europe/Stockholm:20210610T080000
DTEND;TZID=Europe/Stockholm:20210610T090000
DTSTAMP:20260423T110854
CREATED:20210107T110944Z
LAST-MODIFIED:20210610T051244Z
UID:10001356-1623312000-1623315600@efs-kyrkan.info
SUMMARY:Morgonbön
DESCRIPTION:Vi samlas till bön och ber för alla i församlingen och bär fram de böneämnen som kommit in. Vi ber för våra syskon i de andra kyrkorna och får inleda dagen tillsammans inför Gud. \nDu kan vara med på morgonbönen via Zoom. Klicka på länken här.
URL:https://efs-kyrkan.info/kalender/morgonbon-74-2021-01-21/2021-06-10/
ATTACH;FMTTYPE=image/jpeg:https://efs-kyrkan.info/wp-content/uploads/2020/08/morgonbön.jpg
END:VEVENT
BEGIN:VEVENT
DTSTART;TZID=Europe/Stockholm:20210610T173000
DTEND;TZID=Europe/Stockholm:20210610T183000
DTSTAMP:20260423T110854
CREATED:20210602T124354Z
LAST-MODIFIED:20210602T124354Z
UID:10002508-1623346200-1623349800@efs-kyrkan.info
SUMMARY:Glow
DESCRIPTION:Glow är en dansgrupp för dig som går i årskurs 8 och uppåt. \nVi träffas och dansar utomhus under sommaren klockan 17.30-18.30 följande datum:\n10 juni\n24 juni\n9 juli\n23 juli\n6 augusti \nDet kan bli ändringar – är du inte med i dansgruppens chatt-grupp så dubbelkolla inför varje tillfälle med ledaren Helena Eriksson\, 0768 33 28 01.
URL:https://efs-kyrkan.info/kalender/glow-37/2021-06-10/
END:VEVENT
BEGIN:VEVENT
DTSTART;TZID=Europe/Stockholm:20210612T090000
DTEND;TZID=Europe/Stockholm:20210612T110000
DTSTAMP:20260423T110854
CREATED:20210518T124336Z
LAST-MODIFIED:20210701T052530Z
UID:10002501-1623488400-1623495600@efs-kyrkan.info
SUMMARY:Sommarkul
DESCRIPTION:Kolla hit alla barn – kör vi ”Sommarkul”! Lördagar klockan 9 till 11 är barn i alla åldrar välkomna till kyrkans gräsmatta för att hitta på några roliga aktiviteter och få höra om Jesus. \nIdag står det scouter på programmet.
URL:https://efs-kyrkan.info/kalender/sommarkul-2021-06-12/2021-06-12/
END:VEVENT
BEGIN:VEVENT
DTSTART;TZID=Europe/Stockholm:20210612T160000
DTEND;TZID=Europe/Stockholm:20210612T190000
DTSTAMP:20260423T110854
CREATED:20210610T132758Z
LAST-MODIFIED:20210610T133124Z
UID:10002512-1623513600-1623524400@efs-kyrkan.info
SUMMARY:Sommar-UG
DESCRIPTION:Ikväll träffas vi på stranden klockan 16-19. För mer info – kolla in UG Ängelholm på Facebook.
URL:https://efs-kyrkan.info/kalender/sommar-ug-9/
END:VEVENT
BEGIN:VEVENT
DTSTART;TZID=Europe/Stockholm:20210613T100000
DTEND;TZID=Europe/Stockholm:20210613T110000
DTSTAMP:20260423T110854
CREATED:20210518T133704Z
LAST-MODIFIED:20210604T124806Z
UID:10002494-1623578400-1623582000@efs-kyrkan.info
SUMMARY:Gudstjänst
DESCRIPTION:Temat för denna söndag är Kallelsen till Guds rike och det är Magnus Lennartsson som predikar. \nFrån och med den 1 juni får vi fira gudstjänst med fler människor på plats i och utanför kyrkan. Vilket vi tycker är väldigt glädjande! \nSå här kommer upplägget för våra gudstjänster i sommar att vara: \n\nInne i kyrksalen får 50 personer fira gudstjänst. För att få en av dessa platser anmäler du dig här nedanför.\nDet kommer att finnas högtalare vid altanen på baksidan av kyrkan som sänder ut ljudet inifrån scenen. Därför finns det möjlighet att följa gudstjänsten ute på en filt\, i en stol eller med sina barn i sandlådan (max 50 personer\, ingen anmälan).\nVi fortsätter även att livesända gudstjänsterna på vår Youtube-kanal.\nVi kommer att fira nattvard varje söndag i sommar. Efter predikan kommer en präst att bereda måltiden och när det är dags för utdelandet går man ut på altanen och delar ut nattvardsgåvorna där. Under tiden fortsätter lovsång att strömma ut i högtalarna.\nVill du som har suttit ute under gudstjänsten gå in i kyrksalen efteråt och få en stilla stund där\, så får du gärna göra det. Det går även bra att komma och ta emot nattvard om man har följt gudstjänsten via livesändningen.\nEtt tips är att ni tar med er en fikakorg\, så har vi en härlig kyrkfike-gemenskap där ute efter gudstjänsten.\n\nVi ser fram emot att få träffa många av er snart!\nVi följer självklart utvecklingen och skulle restriktionerna förändras så kommer vi ut med ny information. Håll utkik här på hemsidan\, på vår Facebook-sida eller Instagram (sök på efskyrkanahlm). \n 
URL:https://efs-kyrkan.info/kalender/gudstjanst-225-2021-06-13/
END:VEVENT
BEGIN:VEVENT
DTSTART;TZID=Europe/Stockholm:20210618T200000
DTEND;TZID=Europe/Stockholm:20210618T220000
DTSTAMP:20260423T110854
CREATED:20210609T172839Z
LAST-MODIFIED:20210615T113845Z
UID:10002511-1624046400-1624053600@efs-kyrkan.info
SUMMARY:Best of Alternativ kväll
DESCRIPTION:Är du en av dem som har fått förmånen att vara med på en Alternativ Kväll genom åren? Du kanske till och med har stått på scen? Eller har du bara hört talas om dessa humorkvällar\, men aldrig varit där? \n\nOavsett din relation till Alternativ Kväll så bjuds du den 18 juni klockan 20 in till en fantastisk fredagsunderhållning och vi kan utlova mycket skratt. Vi har valt ut ett tiotal av alla de sketcher som har spelats genom tiderna och denna kväll ska ni får rösta fram den allra bästa! Genom att rösta är du dessutom med och samlar in pengar till den renovering som just nu pågår i caféet i EFS-kyrkan.\nEvenemanget sker på Youtube och du hittar dit genom att klicka här. \n\n\nVälkommen på skrattfest den 18 juni!
URL:https://efs-kyrkan.info/kalender/bestofak/
END:VEVENT
BEGIN:VEVENT
DTSTART;TZID=Europe/Stockholm:20210619T090000
DTEND;TZID=Europe/Stockholm:20210619T110000
DTSTAMP:20260423T110854
CREATED:20210518T124336Z
LAST-MODIFIED:20210701T052635Z
UID:10002497-1624093200-1624100400@efs-kyrkan.info
SUMMARY:Sommarkul
DESCRIPTION:Kolla hit alla barn – nu kör vi ”Sommarkul”! Lördagar klockan 9 till 11 är barn i alla åldrar välkomna till kyrkans gräsmatta för att hitta på några roliga aktiviteter och få höra om Jesus. \nIdag står det dans\, lek och sång på programmet.
URL:https://efs-kyrkan.info/kalender/sommarkul-2021-06-19/2021-06-19/
END:VEVENT
BEGIN:VEVENT
DTSTART;TZID=Europe/Stockholm:20210620T100000
DTEND;TZID=Europe/Stockholm:20210620T110000
DTSTAMP:20260423T110854
CREATED:20210518T133704Z
LAST-MODIFIED:20210611T070348Z
UID:10002507-1624183200-1624186800@efs-kyrkan.info
SUMMARY:Gudstjänst
DESCRIPTION:Temat för denna söndag är ”Förlorad och återfunnen” och det är Sara Engström som predikar. \nDet finns möjlighet för 50 personer att sitta inne i kyrksalen (du anmäler dig här nedanför)\, men det går även bra att fira gudstjänsten ute på kyrkans altan eller gräsmatta dit ljudet från scenen sänds ut. Där ute sker även utdelandet av nattvarden och sen finns det möjlighet att äta sin medhavda kyrkfika och njuta av gemenskapen. \nVi fortsätter även att livesända gudstjänsten på vår Youtube-kanal.  \n 
URL:https://efs-kyrkan.info/kalender/gudstjanst-225-2021-06-20/
END:VEVENT
BEGIN:VEVENT
DTSTART;TZID=Europe/Stockholm:20210623T190000
DTEND;TZID=Europe/Stockholm:20210623T220000
DTSTAMP:20260423T110854
CREATED:20210610T133030Z
LAST-MODIFIED:20210610T133030Z
UID:10002513-1624474800-1624485600@efs-kyrkan.info
SUMMARY:Sommar-UG
DESCRIPTION:Välkommen alla ungdomar till sommar-UG! Vi träffas på EFS-kyrkans gräsmatta från klockan 19 och framåt. \nFör mer info – kolla in UG Ängelholm på Facebook!
URL:https://efs-kyrkan.info/kalender/sommar-ug-10/2021-06-23/
END:VEVENT
BEGIN:VEVENT
DTSTART;TZID=Europe/Stockholm:20210624T173000
DTEND;TZID=Europe/Stockholm:20210624T183000
DTSTAMP:20260423T110854
CREATED:20210602T124354Z
LAST-MODIFIED:20210602T124354Z
UID:10002509-1624555800-1624559400@efs-kyrkan.info
SUMMARY:Glow
DESCRIPTION:Glow är en dansgrupp för dig som går i årskurs 8 och uppåt. \nVi träffas och dansar utomhus under sommaren klockan 17.30-18.30 följande datum:\n10 juni\n24 juni\n9 juli\n23 juli\n6 augusti \nDet kan bli ändringar – är du inte med i dansgruppens chatt-grupp så dubbelkolla inför varje tillfälle med ledaren Helena Eriksson\, 0768 33 28 01.
URL:https://efs-kyrkan.info/kalender/glow-37/2021-06-24/
END:VEVENT
BEGIN:VEVENT
DTSTART;TZID=Europe/Stockholm:20210627T100000
DTEND;TZID=Europe/Stockholm:20210627T110000
DTSTAMP:20260423T110854
CREATED:20210518T133704Z
LAST-MODIFIED:20210611T070521Z
UID:10001386-1624788000-1624791600@efs-kyrkan.info
SUMMARY:Gudstjänst
DESCRIPTION:Temat för denna söndag är Den högstes profet och det är Sara Starfelt som predikar. \nDet finns möjlighet för 50 personer att sitta inne i kyrksalen (du anmäler dig här nedanför)\, men det går även bra att fira gudstjänsten ute på kyrkans altan eller gräsmatta dit ljudet från scenen sänds ut. Där ute sker även utdelandet av nattvarden och sen finns det möjlighet att äta sin medhavda kyrkfika och njuta av gemenskapen. \nVi fortsätter även att livesända gudstjänsten på vår Youtube-kanal. 
URL:https://efs-kyrkan.info/kalender/gudstjanst-225-2021-06-27/
END:VEVENT
END:VCALENDAR