BEGIN:VCALENDAR
VERSION:2.0
PRODID:-//EFS-Kyrkan i Ängelholm - ECPv6.15.20//NONSGML v1.0//EN
CALSCALE:GREGORIAN
METHOD:PUBLISH
X-ORIGINAL-URL:https://efs-kyrkan.info
X-WR-CALDESC:Händelser för EFS-Kyrkan i Ängelholm
REFRESH-INTERVAL;VALUE=DURATION:PT1H
X-Robots-Tag:noindex
X-PUBLISHED-TTL:PT1H
BEGIN:VTIMEZONE
TZID:Europe/Stockholm
BEGIN:DAYLIGHT
TZOFFSETFROM:+0100
TZOFFSETTO:+0200
TZNAME:CEST
DTSTART:20230326T010000
END:DAYLIGHT
BEGIN:STANDARD
TZOFFSETFROM:+0200
TZOFFSETTO:+0100
TZNAME:CET
DTSTART:20231029T010000
END:STANDARD
BEGIN:DAYLIGHT
TZOFFSETFROM:+0100
TZOFFSETTO:+0200
TZNAME:CEST
DTSTART:20240331T010000
END:DAYLIGHT
BEGIN:STANDARD
TZOFFSETFROM:+0200
TZOFFSETTO:+0100
TZNAME:CET
DTSTART:20241027T010000
END:STANDARD
BEGIN:DAYLIGHT
TZOFFSETFROM:+0100
TZOFFSETTO:+0200
TZNAME:CEST
DTSTART:20250330T010000
END:DAYLIGHT
BEGIN:STANDARD
TZOFFSETFROM:+0200
TZOFFSETTO:+0100
TZNAME:CET
DTSTART:20251026T010000
END:STANDARD
BEGIN:DAYLIGHT
TZOFFSETFROM:+0100
TZOFFSETTO:+0200
TZNAME:CEST
DTSTART:20260329T010000
END:DAYLIGHT
BEGIN:STANDARD
TZOFFSETFROM:+0200
TZOFFSETTO:+0100
TZNAME:CET
DTSTART:20261025T010000
END:STANDARD
END:VTIMEZONE
BEGIN:VEVENT
DTSTART;TZID=Europe/Stockholm:20250122T170000
DTEND;TZID=Europe/Stockholm:20250122T190000
DTSTAMP:20260421T074459
CREATED:20250130T171333Z
LAST-MODIFIED:20250408T193725Z
UID:10004020-1737565200-1737572400@efs-kyrkan.info
SUMMARY:Kvinnoträff
DESCRIPTION:Varannan onsdag mellan klockan 17 och 19 öppnar vi upp kyrkan för en träff som är inriktad på att möta kvinnor och barns behov i vardagen.\nTillsammans äter vi en måltid\, samtalar och bara är i varandras sällskap. I lugn och ro kan vi möta varandra för att ge stöd och råd\, lära av varandra men också för att ha roligt och trevligt tillsammans.\nBarnen har egna aktiviteter tillsammans med ledare som hittar på roliga saker för dem. \nHar du frågor så kontakta Birgitta Jarbo: 073-3449111 eller birgitta.jarbo@efs-kyrkan.info \n \n 
URL:https://efs-kyrkan.info/kalender/kvinnotraff-75/2025-01-22/
END:VEVENT
BEGIN:VEVENT
DTSTART;TZID=Europe/Stockholm:20250119T100000
DTEND;TZID=Europe/Stockholm:20250119T113000
DTSTAMP:20260421T074459
CREATED:20250102T152209Z
LAST-MODIFIED:20250102T152210Z
UID:10003900-1737280800-1737286200@efs-kyrkan.info
SUMMARY:Gudstjänst
DESCRIPTION:Välkommen till gudstjänst i EFS-kyrkan på Metallgatan 31 i Ängelholm. \nDenna söndag är temat ”Tillsammans för världens skull” och det är Magnus Lennartsson som predikar. \nTillsammans får vi be\, sjunga och fika. \nHar du inte möjlighet att ta dig till kyrkan på Metallgatan 31  kan du följa gudstjänsten via vår livesändning här. 
URL:https://efs-kyrkan.info/kalender/gudstjanst-243-4/
END:VEVENT
BEGIN:VEVENT
DTSTART;TZID=Europe/Stockholm:20250117T190000
DTEND;TZID=Europe/Stockholm:20250117T233000
DTSTAMP:20260421T074459
CREATED:20250102T150751Z
LAST-MODIFIED:20250102T150751Z
UID:10003961-1737140400-1737156600@efs-kyrkan.info
SUMMARY:UG
DESCRIPTION:UG är EFS-kyrkans ungdomsgrupp för ungdomar som går i åk 8 och uppåt. \nVi träffas varannan fredag (udda veckor) med start klockan 19. Vi vill vara en mötesplats för ungdomar i och runtomkring Ängelholm. Under en vanlig UG-kväll kan allting hända: tävlingar\, lekar\, filmkväll\, diskussionsgrupper\, ungdomsgudstjänster\, spex och underhållning. Vi vill att UG ska vara en plats där man får lära känna Jesus och växa i sin tro på honom. \nPå UG får alla komma precis som man är. Du är välkommen oavsett om du är kristen eller inte.  \nHoppas att vi ses i EFS-kyrkan. Välkommen! \nUG finns på Facebook\, både som grupp och sida\, och på Instagram ”ugangelholm”
URL:https://efs-kyrkan.info/kalender/ug-53/2025-01-17/
END:VEVENT
BEGIN:VEVENT
DTSTART;TZID=Europe/Stockholm:20250117T173000
DTEND;TZID=Europe/Stockholm:20250117T183000
DTSTAMP:20260421T074459
CREATED:20250102T150938Z
LAST-MODIFIED:20250102T150938Z
UID:10003972-1737135000-1737138600@efs-kyrkan.info
SUMMARY:Fredax
DESCRIPTION:Alla barn som är fem år och uppåt – välkomna till Fredax. Vi träffas varannan fredag (udda veckor) klockan 17.30–18.30 och hittar först på någon rolig aktivitet som lek\, pyssel\, bakning\, spel eller liknande och sen har vi en andakt på slutet och pratar om vem Jesus är. \nVälkomna! \nHar ni frågor så kontakta Lena Strömblad på telefon 076-106 00 98.
URL:https://efs-kyrkan.info/kalender/fredax-60/2025-01-17/
END:VEVENT
BEGIN:VEVENT
DTSTART;TZID=Europe/Stockholm:20250117T173000
DTEND;TZID=Europe/Stockholm:20250117T183000
DTSTAMP:20260421T074459
CREATED:20250102T150434Z
LAST-MODIFIED:20250326T191656Z
UID:10003941-1737135000-1737138600@efs-kyrkan.info
SUMMARY:Dansgruppen Glow
DESCRIPTION:Tycker du om att dansa och röra dig till musik? Vill du lovsjunga Jesus med hela din kropp? Går du dessutom i årskurs sex eller högre och vill göra allt detta tillsammans med ett härligt gäng ungdomar? \nDå är du varmt välkommen att vara med i Glow som träffas i EFS-kyrkan på fredagar klockan 17.30. \nHar du några frågor så kontakta vår barn-och ungdomsledare Sara Rigby på 076-492 78 28 eller sara.rigby@efs.nu
URL:https://efs-kyrkan.info/kalender/dansgruppen-glow-4/2025-01-17/
END:VEVENT
BEGIN:VEVENT
DTSTART;TZID=Europe/Stockholm:20250117T164500
DTEND;TZID=Europe/Stockholm:20250117T173000
DTSTAMP:20260421T074459
CREATED:20250102T150148Z
LAST-MODIFIED:20250326T191606Z
UID:10003920-1737132300-1737135000@efs-kyrkan.info
SUMMARY:Dansgruppen Sunshine
DESCRIPTION:Är du mellan sju och elva år och gillar att dansa? Då har du chansen att göra detta i dansgruppen Sunshine! \nPå fredagar klockan 16.45-17.30 är du välkommen till EFS-kyrkan för att dansa och ha roligt. \nHar du några frågor så kontakta vår barn- och ungdomsledare Sara Rigby på 076-492 78 28 eller sara.rigby@efs.nu
URL:https://efs-kyrkan.info/kalender/dansgruppen-sunshine-6/2025-01-17/
END:VEVENT
BEGIN:VEVENT
DTSTART;TZID=Europe/Stockholm:20250116T080000
DTEND;TZID=Europe/Stockholm:20250116T090000
DTSTAMP:20260421T074459
CREATED:20250102T151336Z
LAST-MODIFIED:20250102T151336Z
UID:10003983-1737014400-1737018000@efs-kyrkan.info
SUMMARY:Morgonbön
DESCRIPTION:Varje torsdagsmorgon samlas vi till bön och ber för alla i församlingen och för aktuella böneämnen.\nVi ber för våra syskon i de andra kyrkorna och får inleda dagen tillsammans inför Herren.\nEfter bönen finns det fika till dem som vill. \nVälkommen!
URL:https://efs-kyrkan.info/kalender/morgonbon-82/2025-01-16/
END:VEVENT
BEGIN:VEVENT
DTSTART;TZID=Europe/Stockholm:20250112T100000
DTEND;TZID=Europe/Stockholm:20250112T113000
DTSTAMP:20260421T074459
CREATED:20250102T090816Z
LAST-MODIFIED:20250102T090817Z
UID:10003899-1736676000-1736681400@efs-kyrkan.info
SUMMARY:Gudstjänst
DESCRIPTION:Välkommen till gudstjänst i EFS-kyrkan på Metallgatan 31 i Ängelholm. \nDenna söndag är temat ”Från krubban till himlen” och det är Carl Skarin som predikar. \nTillsammans får vi be\, sjunga\, ta emot nattvardsgåvorna och fika. \nHar du inte möjlighet att ta dig till kyrkan på Metallgatan 31  kan du följa gudstjänsten via vår livesändning här. 
URL:https://efs-kyrkan.info/kalender/gudstjanst-243-3/
END:VEVENT
BEGIN:VEVENT
DTSTART;TZID=Europe/Stockholm:20250110T173000
DTEND;TZID=Europe/Stockholm:20250110T183000
DTSTAMP:20260421T074459
CREATED:20250102T150434Z
LAST-MODIFIED:20250326T191656Z
UID:10003940-1736530200-1736533800@efs-kyrkan.info
SUMMARY:Dansgruppen Glow
DESCRIPTION:Tycker du om att dansa och röra dig till musik? Vill du lovsjunga Jesus med hela din kropp? Går du dessutom i årskurs sex eller högre och vill göra allt detta tillsammans med ett härligt gäng ungdomar? \nDå är du varmt välkommen att vara med i Glow som träffas i EFS-kyrkan på fredagar klockan 17.30. \nHar du några frågor så kontakta vår barn-och ungdomsledare Sara Rigby på 076-492 78 28 eller sara.rigby@efs.nu
URL:https://efs-kyrkan.info/kalender/dansgruppen-glow-4/2025-01-10/
END:VEVENT
BEGIN:VEVENT
DTSTART;TZID=Europe/Stockholm:20250109T080000
DTEND;TZID=Europe/Stockholm:20250109T090000
DTSTAMP:20260421T074459
CREATED:20250102T151336Z
LAST-MODIFIED:20250102T151336Z
UID:10003982-1736409600-1736413200@efs-kyrkan.info
SUMMARY:Morgonbön
DESCRIPTION:Varje torsdagsmorgon samlas vi till bön och ber för alla i församlingen och för aktuella böneämnen.\nVi ber för våra syskon i de andra kyrkorna och får inleda dagen tillsammans inför Herren.\nEfter bönen finns det fika till dem som vill. \nVälkommen!
URL:https://efs-kyrkan.info/kalender/morgonbon-82/2025-01-09/
END:VEVENT
BEGIN:VEVENT
DTSTART;TZID=Europe/Stockholm:20250108T190000
DTEND;TZID=Europe/Stockholm:20250108T193000
DTSTAMP:20260421T074459
CREATED:20250103T162250Z
LAST-MODIFIED:20250301T123108Z
UID:10004004-1736362800-1736364600@efs-kyrkan.info
SUMMARY:Veckomässa
DESCRIPTION:Mitt i veckan får vi samlas inför Jesus kors för att ta emot nattvardsgåvorna\, lyssna till Bibelordet\, sjunga och be. \nVälkommen att vara med på veckomässan denna onsdag klockan 19.
URL:https://efs-kyrkan.info/kalender/veckomassa-25/2025-01-08/
END:VEVENT
BEGIN:VEVENT
DTSTART;TZID=Europe/Stockholm:20250106T100000
DTEND;TZID=Europe/Stockholm:20250106T110000
DTSTAMP:20260421T074459
CREATED:20241217T192940Z
LAST-MODIFIED:20241217T192940Z
UID:10003897-1736157600-1736161200@efs-kyrkan.info
SUMMARY:Missionsgudstjänst på trettondagen
DESCRIPTION:På trettondag jul firas det gudstjänst med missionstema i S:t Mikael klockan 10. \nLisa Vetterlein visar bilder och berättar om sina fyra månaders volontärarbete på ett pojkhem i Nakuru i Kenya. Vi får också lyssna till latinamerikanska toner\, sjunga psalmer och ta emot nattvardsgåvorna tillsammans. Församlingens julinsamling till missionen avslutas i samband med gudstjänsten. \nVälkommen att vara med i gemenskapen i S:t Mikael på Ishallsvägen 10.
URL:https://efs-kyrkan.info/kalender/missionsgudstjanst-pa-trettondagen/
END:VEVENT
BEGIN:VEVENT
DTSTART;TZID=Europe/Stockholm:20250105T100000
DTEND;TZID=Europe/Stockholm:20250105T113000
DTSTAMP:20260421T074459
CREATED:20250102T090537Z
LAST-MODIFIED:20250102T090541Z
UID:10003898-1736071200-1736076600@efs-kyrkan.info
SUMMARY:Gudstjänst
DESCRIPTION:Välkommen till gudstjänst i EFS-kyrkan på Metallgatan 31 i Ängelholm. \nDenna söndag är temat ”Från krubban till världen” och det är Magnus Lennartsson som predikar. \nTillsammans får vi be\, sjunga och fika. \nHar du inte möjlighet att ta dig till kyrkan på Metallgatan 31  kan du följa gudstjänsten via vår livesändning här. 
URL:https://efs-kyrkan.info/kalender/gudstjanst-243-2/
END:VEVENT
BEGIN:VEVENT
DTSTART;TZID=Europe/Stockholm:20241229T100000
DTEND;TZID=Europe/Stockholm:20241229T113000
DTSTAMP:20260421T074459
CREATED:20241202T072626Z
LAST-MODIFIED:20241202T072626Z
UID:10003896-1735466400-1735471800@efs-kyrkan.info
SUMMARY:Gudstjänst
DESCRIPTION:Några dagar efter jul får vi åter samlas till gudstjänst på temat ”Förvandlade vid krubban”. \nMagnus Lennartsson predikar\, vi får ta emot nattvardsgåvorna och sjunga och be tillsammans. \nHar du inte möjlighet att vara på plats i kyrkan på Metallgatan 31 kan du följa gudstjänsten via vår livesändning här.
URL:https://efs-kyrkan.info/kalender/gudstjanst-242/
END:VEVENT
BEGIN:VEVENT
DTSTART;TZID=Europe/Stockholm:20241224T100000
DTEND;TZID=Europe/Stockholm:20241224T110000
DTSTAMP:20260421T074459
CREATED:20241202T072235Z
LAST-MODIFIED:20241222T113437Z
UID:10003895-1735034400-1735038000@efs-kyrkan.info
SUMMARY:Julaftonsgudstjänst
DESCRIPTION:”Idag har en frälsare fötts åt er i Davids stad\, han är Messias\, Herren.” \nVi har kommit fram till julafton och får nu göra herdarna sällskap och samlas vid krubban i Betlehem. \nMagnus Lennartsson predikar och vi får tillsammans sjunga många härliga julsånger. \nVälkommen till EFS-kyrkan klockan 10!
URL:https://efs-kyrkan.info/kalender/julaftonsgudstjanst-4/
END:VEVENT
BEGIN:VEVENT
DTSTART;TZID=Europe/Stockholm:20241222T100000
DTEND;TZID=Europe/Stockholm:20241222T113000
DTSTAMP:20260421T074459
CREATED:20241112T180924Z
LAST-MODIFIED:20241112T200717Z
UID:10003894-1734861600-1734867000@efs-kyrkan.info
SUMMARY:Adventsgudstjänst
DESCRIPTION:Vi är på väg mot krubban i Betlehem och detta vill vi\, med olika infallsvinklar\, stanna upp inför vid gudstjänsterna under adventstiden. Idag tänder vi det sista ljuset i adventsljusstaken och då predikar Carl Skarin kring ”På väg mot krubban – från Nasaret.” \nVi får be\, lovsjunga och ta emot nattvardsgåvorna. Och sedan dela fikagemenskapen. \nHar du inte möjlighet att komma till Metallgatan 31 sänder vi gudstjänsten här.  \n \n 
URL:https://efs-kyrkan.info/kalender/adventsgudstjanst-2-4/
END:VEVENT
BEGIN:VEVENT
DTSTART;TZID=Europe/Stockholm:20241220T190000
DTEND;TZID=Europe/Stockholm:20241220T233000
DTSTAMP:20260421T074459
CREATED:20240822T183428Z
LAST-MODIFIED:20240822T183428Z
UID:10003736-1734721200-1734737400@efs-kyrkan.info
SUMMARY:UG
DESCRIPTION:UG är EFS-kyrkans ungdomsgrupp för ungdomar som går i åk 8 och uppåt. \nVi träffas varannan fredag (udda veckor) med start klockan 19. Vi vill vara en mötesplats för ungdomar i och runtomkring Ängelholm. Under en vanlig UG-kväll kan allting hända: tävlingar\, lekar\, filmkväll\, diskussionsgrupper\, ungdomsgudstjänster\, spex och underhållning. Vi vill att UG ska vara en plats där man får lära känna Jesus och växa i sin tro på honom. \nPå UG får alla komma precis som man är. Du är välkommen oavsett om du är kristen eller inte.  \nHoppas att vi ses i EFS-kyrkan. Välkommen! \nUG finns på Facebook\, både som grupp och sida\, och på Instagram ”ugangelholm”
URL:https://efs-kyrkan.info/kalender/ug-52/2024-12-20/
END:VEVENT
BEGIN:VEVENT
DTSTART;TZID=Europe/Stockholm:20241220T173000
DTEND;TZID=Europe/Stockholm:20241220T184500
DTSTAMP:20260421T074459
CREATED:20240822T183731Z
LAST-MODIFIED:20241025T120234Z
UID:10003754-1734715800-1734720300@efs-kyrkan.info
SUMMARY:Dansgruppen Glow
DESCRIPTION:Tycker du om att dansa och röra dig till musik? Vill du lovsjunga Jesus med hela din kropp? Går du dessutom i årskurs sex eller högre och vill göra allt detta tillsammans med ett härligt gäng ungdomar? \nDå är du varmt välkommen att vara med i Glow som träffas i EFS-kyrkan på fredagar klockan 17.30. \nHar du några frågor så kontakta vår barn-och ungdomsledare Sara Rigby på 076-492 78 28 eller sara.rigby@efs.nu
URL:https://efs-kyrkan.info/kalender/dansgruppen-glow-3/2024-12-20/
END:VEVENT
BEGIN:VEVENT
DTSTART;TZID=Europe/Stockholm:20241219T080000
DTEND;TZID=Europe/Stockholm:20241219T090000
DTSTAMP:20260421T074459
CREATED:20240824T072636Z
LAST-MODIFIED:20240824T072636Z
UID:10003788-1734595200-1734598800@efs-kyrkan.info
SUMMARY:Morgonbön
DESCRIPTION:Varje torsdagsmorgon samlas vi till bön och ber för alla i församlingen och för aktuella böneämnen.\nVi ber för våra syskon i de andra kyrkorna och får inleda dagen tillsammans inför Herren.\nEfter bönen finns det fika till dem som vill. \nVälkommen!
URL:https://efs-kyrkan.info/kalender/morgonbon-81/2024-12-19/
END:VEVENT
BEGIN:VEVENT
DTSTART;TZID=Europe/Stockholm:20241215T100000
DTEND;TZID=Europe/Stockholm:20241215T113000
DTSTAMP:20260421T074459
CREATED:20241112T180625Z
LAST-MODIFIED:20241112T200906Z
UID:10003893-1734256800-1734262200@efs-kyrkan.info
SUMMARY:Adventsgudstjänst
DESCRIPTION:Vi är på väg mot krubban i Betlehem och detta vill vi\, med olika infallsvinklar\, stanna upp inför vid gudstjänsterna under adventstiden. Denna söndag tänder vi det tredje ljuset och då predikar Magnus Lennartsson kring ”På väg mot krubban – från Egypten”. \nVi får be och lovsjunga tillsammans\, barnen har söndagsskola och det blir såklart fika. \nHar du inte möjlighet att komma till Metallgatan 31 sänder vi gudstjänsten här. 
URL:https://efs-kyrkan.info/kalender/adventsgudstjanst-2-3/
END:VEVENT
BEGIN:VEVENT
DTSTART;TZID=Europe/Stockholm:20241213T220000
DTEND;TZID=Europe/Stockholm:20241214T020000
DTSTAMP:20260421T074459
CREATED:20240609T135737Z
LAST-MODIFIED:20240609T135737Z
UID:10003690-1734127200-1734141600@efs-kyrkan.info
SUMMARY:Pannkakskyrkan
DESCRIPTION:Personer från olika församlingar i Ängelholm går varannan fredagskväll ut på stan för att dela ut pannkakor\, prata med\, be för och visa omtanke till de människor som rör sig där. Kvällar som har gett många fantastiska möten och som har fått betyda mycket för väldigt många! \nVill du följa med Pannkakskyrkan ut? Välkommen då till Pingstkyrkan klockan 22\, så börjar kvällen där med bön och smetvispning innan vi ger oss ut på stan. \nHar du frågor så kontakta Helena Bonde på 070-7230265.
URL:https://efs-kyrkan.info/kalender/pannkakskyrkan-12/2024-12-13/
END:VEVENT
BEGIN:VEVENT
DTSTART;TZID=Europe/Stockholm:20241213T173000
DTEND;TZID=Europe/Stockholm:20241213T184500
DTSTAMP:20260421T074459
CREATED:20240822T183731Z
LAST-MODIFIED:20241025T120234Z
UID:10003753-1734111000-1734115500@efs-kyrkan.info
SUMMARY:Dansgruppen Glow
DESCRIPTION:Tycker du om att dansa och röra dig till musik? Vill du lovsjunga Jesus med hela din kropp? Går du dessutom i årskurs sex eller högre och vill göra allt detta tillsammans med ett härligt gäng ungdomar? \nDå är du varmt välkommen att vara med i Glow som träffas i EFS-kyrkan på fredagar klockan 17.30. \nHar du några frågor så kontakta vår barn-och ungdomsledare Sara Rigby på 076-492 78 28 eller sara.rigby@efs.nu
URL:https://efs-kyrkan.info/kalender/dansgruppen-glow-3/2024-12-13/
END:VEVENT
BEGIN:VEVENT
DTSTART;TZID=Europe/Stockholm:20241213T164500
DTEND;TZID=Europe/Stockholm:20241213T173000
DTSTAMP:20260421T074459
CREATED:20240824T090204Z
LAST-MODIFIED:20241202T071243Z
UID:10003804-1734108300-1734111000@efs-kyrkan.info
SUMMARY:Dansgruppen Sunshine
DESCRIPTION:Är du mellan sju och elva år och gillar att dansa? Då har du chansen att göra detta i dansgruppen Sunshine! \nPå fredagar klockan 16.45-17.30 är du välkommen till EFS-kyrkan för att dansa och ha roligt. \nHar du några frågor så kontakta vår barn- och ungdomsledare Sara Rigby på 076-492 78 28 eller sara.rigby@efs.nu
URL:https://efs-kyrkan.info/kalender/dansgruppen-sunshine-5/2024-12-13/
END:VEVENT
BEGIN:VEVENT
DTSTART;TZID=Europe/Stockholm:20241212T080000
DTEND;TZID=Europe/Stockholm:20241212T090000
DTSTAMP:20260421T074459
CREATED:20240824T072636Z
LAST-MODIFIED:20240824T072636Z
UID:10003787-1733990400-1733994000@efs-kyrkan.info
SUMMARY:Morgonbön
DESCRIPTION:Varje torsdagsmorgon samlas vi till bön och ber för alla i församlingen och för aktuella böneämnen.\nVi ber för våra syskon i de andra kyrkorna och får inleda dagen tillsammans inför Herren.\nEfter bönen finns det fika till dem som vill. \nVälkommen!
URL:https://efs-kyrkan.info/kalender/morgonbon-81/2024-12-12/
END:VEVENT
BEGIN:VEVENT
DTSTART;TZID=Europe/Stockholm:20241211T170000
DTEND;TZID=Europe/Stockholm:20241211T190000
DTSTAMP:20260421T074459
CREATED:20240824T070606Z
LAST-MODIFIED:20240824T070606Z
UID:10003771-1733936400-1733943600@efs-kyrkan.info
SUMMARY:Kvinnoträff
DESCRIPTION:Varannan onsdag mellan klockan 17 och 19 öppnar vi upp kyrkan för en träff som är inriktad på att möta kvinnor och barns behov i vardagen.\nTillsammans äter vi en måltid\, samtalar och bara är i varandras sällskap. I lugn och ro kan vi möta varandra för att ge stöd och råd\, lära av varandra men också för att ha roligt och trevligt tillsammans.\nBarnen har egna aktiviteter tillsammans med ledare som hittar på roliga saker för dem. \nHar du frågor så kontakta Birgitta Jarbo: 073-3449111 eller birgitta.jarbo@efs-kyrkan.info \n \n 
URL:https://efs-kyrkan.info/kalender/kvinnotraff-74/2024-12-11/
END:VEVENT
BEGIN:VEVENT
DTSTART;TZID=Europe/Stockholm:20241208T100000
DTEND;TZID=Europe/Stockholm:20241208T113000
DTSTAMP:20260421T074459
CREATED:20241112T180405Z
LAST-MODIFIED:20241112T200954Z
UID:10003892-1733652000-1733657400@efs-kyrkan.info
SUMMARY:Adventsgudstjänst
DESCRIPTION:Vi är på väg mot krubban i Betlehem och detta vill vi\, med olika infallsvinklar\, stanna upp inför vid gudstjänsterna under adventstiden. Denna andra adventssöndag predikar Carl Skarin kring ”På väg mot krubban – sedan forntiden”. \nVi får be\, lovsjunga och ta emot nattvardsgåvorna. Och sedan dela fikagemenskapen. \nHar du inte möjlighet att komma till Metallgatan 31 sänder vi gudstjänsten här. 
URL:https://efs-kyrkan.info/kalender/adventsgudstjanst-2-2/
END:VEVENT
BEGIN:VEVENT
DTSTART;TZID=Europe/Stockholm:20241206T190000
DTEND;TZID=Europe/Stockholm:20241206T233000
DTSTAMP:20260421T074459
CREATED:20240822T183428Z
LAST-MODIFIED:20240822T183428Z
UID:10003735-1733511600-1733527800@efs-kyrkan.info
SUMMARY:UG
DESCRIPTION:UG är EFS-kyrkans ungdomsgrupp för ungdomar som går i åk 8 och uppåt. \nVi träffas varannan fredag (udda veckor) med start klockan 19. Vi vill vara en mötesplats för ungdomar i och runtomkring Ängelholm. Under en vanlig UG-kväll kan allting hända: tävlingar\, lekar\, filmkväll\, diskussionsgrupper\, ungdomsgudstjänster\, spex och underhållning. Vi vill att UG ska vara en plats där man får lära känna Jesus och växa i sin tro på honom. \nPå UG får alla komma precis som man är. Du är välkommen oavsett om du är kristen eller inte.  \nHoppas att vi ses i EFS-kyrkan. Välkommen! \nUG finns på Facebook\, både som grupp och sida\, och på Instagram ”ugangelholm”
URL:https://efs-kyrkan.info/kalender/ug-52/2024-12-06/
END:VEVENT
BEGIN:VEVENT
DTSTART;TZID=Europe/Stockholm:20241206T173000
DTEND;TZID=Europe/Stockholm:20241206T184500
DTSTAMP:20260421T074459
CREATED:20240822T183731Z
LAST-MODIFIED:20241025T120234Z
UID:10003752-1733506200-1733510700@efs-kyrkan.info
SUMMARY:Dansgruppen Glow
DESCRIPTION:Tycker du om att dansa och röra dig till musik? Vill du lovsjunga Jesus med hela din kropp? Går du dessutom i årskurs sex eller högre och vill göra allt detta tillsammans med ett härligt gäng ungdomar? \nDå är du varmt välkommen att vara med i Glow som träffas i EFS-kyrkan på fredagar klockan 17.30. \nHar du några frågor så kontakta vår barn-och ungdomsledare Sara Rigby på 076-492 78 28 eller sara.rigby@efs.nu
URL:https://efs-kyrkan.info/kalender/dansgruppen-glow-3/2024-12-06/
END:VEVENT
BEGIN:VEVENT
DTSTART;TZID=Europe/Stockholm:20241206T173000
DTEND;TZID=Europe/Stockholm:20241206T183000
DTSTAMP:20260421T074459
CREATED:20240822T184313Z
LAST-MODIFIED:20241202T071635Z
UID:10003762-1733506200-1733509800@efs-kyrkan.info
SUMMARY:Fredax
DESCRIPTION:Alla barn som är fem år och uppåt – välkomna till Fredax. Vi träffas varannan fredag (udda veckor) klockan 17.30–18.30 och hittar först på någon rolig aktivitet som lek\, pyssel\, bakning\, spel eller liknande och sen har vi en andakt på slutet och pratar om vem Jesus är. \nVälkomna! \nHar ni frågor så kontakta Lena Strömblad på telefon 076-106 00 98.
URL:https://efs-kyrkan.info/kalender/fredax-59/2024-12-06/
END:VEVENT
BEGIN:VEVENT
DTSTART;TZID=Europe/Stockholm:20241206T164500
DTEND;TZID=Europe/Stockholm:20241206T173000
DTSTAMP:20260421T074459
CREATED:20240824T090204Z
LAST-MODIFIED:20241202T071243Z
UID:10003803-1733503500-1733506200@efs-kyrkan.info
SUMMARY:Dansgruppen Sunshine
DESCRIPTION:Är du mellan sju och elva år och gillar att dansa? Då har du chansen att göra detta i dansgruppen Sunshine! \nPå fredagar klockan 16.45-17.30 är du välkommen till EFS-kyrkan för att dansa och ha roligt. \nHar du några frågor så kontakta vår barn- och ungdomsledare Sara Rigby på 076-492 78 28 eller sara.rigby@efs.nu
URL:https://efs-kyrkan.info/kalender/dansgruppen-sunshine-5/2024-12-06/
END:VEVENT
END:VCALENDAR