BEGIN:VCALENDAR
VERSION:2.0
PRODID:-//EFS-Kyrkan i Ängelholm - ECPv6.15.20//NONSGML v1.0//EN
CALSCALE:GREGORIAN
METHOD:PUBLISH
X-ORIGINAL-URL:https://efs-kyrkan.info
X-WR-CALDESC:Händelser för EFS-Kyrkan i Ängelholm
REFRESH-INTERVAL;VALUE=DURATION:PT1H
X-Robots-Tag:noindex
X-PUBLISHED-TTL:PT1H
BEGIN:VTIMEZONE
TZID:Europe/Stockholm
BEGIN:DAYLIGHT
TZOFFSETFROM:+0100
TZOFFSETTO:+0200
TZNAME:CEST
DTSTART:20240331T010000
END:DAYLIGHT
BEGIN:STANDARD
TZOFFSETFROM:+0200
TZOFFSETTO:+0100
TZNAME:CET
DTSTART:20241027T010000
END:STANDARD
BEGIN:DAYLIGHT
TZOFFSETFROM:+0100
TZOFFSETTO:+0200
TZNAME:CEST
DTSTART:20250330T010000
END:DAYLIGHT
BEGIN:STANDARD
TZOFFSETFROM:+0200
TZOFFSETTO:+0100
TZNAME:CET
DTSTART:20251026T010000
END:STANDARD
BEGIN:DAYLIGHT
TZOFFSETFROM:+0100
TZOFFSETTO:+0200
TZNAME:CEST
DTSTART:20260329T010000
END:DAYLIGHT
BEGIN:STANDARD
TZOFFSETFROM:+0200
TZOFFSETTO:+0100
TZNAME:CET
DTSTART:20261025T010000
END:STANDARD
END:VTIMEZONE
BEGIN:VEVENT
DTSTART;TZID=Europe/Stockholm:20250328T173000
DTEND;TZID=Europe/Stockholm:20250328T183000
DTSTAMP:20260420T200650
CREATED:20250102T150434Z
LAST-MODIFIED:20250326T191656Z
UID:10003951-1743183000-1743186600@efs-kyrkan.info
SUMMARY:Dansgruppen Glow
DESCRIPTION:Tycker du om att dansa och röra dig till musik? Vill du lovsjunga Jesus med hela din kropp? Går du dessutom i årskurs sex eller högre och vill göra allt detta tillsammans med ett härligt gäng ungdomar? \nDå är du varmt välkommen att vara med i Glow som träffas i EFS-kyrkan på fredagar klockan 17.30. \nHar du några frågor så kontakta vår barn-och ungdomsledare Sara Rigby på 076-492 78 28 eller sara.rigby@efs.nu
URL:https://efs-kyrkan.info/kalender/dansgruppen-glow-4/2025-03-28/
END:VEVENT
BEGIN:VEVENT
DTSTART;TZID=Europe/Stockholm:20250328T164500
DTEND;TZID=Europe/Stockholm:20250328T173000
DTSTAMP:20260420T200650
CREATED:20250102T150148Z
LAST-MODIFIED:20250326T191606Z
UID:10003930-1743180300-1743183000@efs-kyrkan.info
SUMMARY:Dansgruppen Sunshine
DESCRIPTION:Är du mellan sju och elva år och gillar att dansa? Då har du chansen att göra detta i dansgruppen Sunshine! \nPå fredagar klockan 16.45-17.30 är du välkommen till EFS-kyrkan för att dansa och ha roligt. \nHar du några frågor så kontakta vår barn- och ungdomsledare Sara Rigby på 076-492 78 28 eller sara.rigby@efs.nu
URL:https://efs-kyrkan.info/kalender/dansgruppen-sunshine-6/2025-03-28/
END:VEVENT
BEGIN:VEVENT
DTSTART;TZID=Europe/Stockholm:20250327T080000
DTEND;TZID=Europe/Stockholm:20250327T090000
DTSTAMP:20260420T200650
CREATED:20250102T151336Z
LAST-MODIFIED:20250102T151336Z
UID:10003993-1743062400-1743066000@efs-kyrkan.info
SUMMARY:Morgonbön
DESCRIPTION:Varje torsdagsmorgon samlas vi till bön och ber för alla i församlingen och för aktuella böneämnen.\nVi ber för våra syskon i de andra kyrkorna och får inleda dagen tillsammans inför Herren.\nEfter bönen finns det fika till dem som vill. \nVälkommen!
URL:https://efs-kyrkan.info/kalender/morgonbon-82/2025-03-27/
END:VEVENT
BEGIN:VEVENT
DTSTART;TZID=Europe/Stockholm:20250323T100000
DTEND;TZID=Europe/Stockholm:20250323T113000
DTSTAMP:20260420T200650
CREATED:20250321T194327Z
LAST-MODIFIED:20250321T194327Z
UID:10003909-1742724000-1742729400@efs-kyrkan.info
SUMMARY:Gudstjänst
DESCRIPTION:Denna söndag fortsätter vi vår temaserie om att leva i livets rytm. Nu är själen i centrum och det är Carl Skarin som predikar. Gudstjänsten innehåller även söndagsskola\, bön\, lovsång\, kyrkfika och gemenskap.\nHar du inte möjlighet att ta dig till kyrkan på Metallgatan 31  kan du följa gudstjänsten via vår livesändning här. 
URL:https://efs-kyrkan.info/kalender/gudstjanst-243-10/
END:VEVENT
BEGIN:VEVENT
DTSTART;TZID=Europe/Stockholm:20250321T190000
DTEND;TZID=Europe/Stockholm:20250321T210000
DTSTAMP:20260420T200650
CREATED:20250130T170955Z
LAST-MODIFIED:20250327T094828Z
UID:10004014-1742583600-1742590800@efs-kyrkan.info
SUMMARY:Light
DESCRIPTION:Light är tonårsgruppen för dig som går i åk 5–7. \nVi träffas i kyrkan varannan fredag klockan 19-21 (jämna veckor) och har roligt! Vi leker\, tävlar och pratar om viktiga saker.\nVarje gång fikar vi och samlas till en andakt där vi pratar om Jesus. \nVälkomna!
URL:https://efs-kyrkan.info/kalender/light-69/2025-03-21/
END:VEVENT
BEGIN:VEVENT
DTSTART;TZID=Europe/Stockholm:20250321T173000
DTEND;TZID=Europe/Stockholm:20250321T183000
DTSTAMP:20260420T200650
CREATED:20250102T150434Z
LAST-MODIFIED:20250326T191656Z
UID:10003950-1742578200-1742581800@efs-kyrkan.info
SUMMARY:Dansgruppen Glow
DESCRIPTION:Tycker du om att dansa och röra dig till musik? Vill du lovsjunga Jesus med hela din kropp? Går du dessutom i årskurs sex eller högre och vill göra allt detta tillsammans med ett härligt gäng ungdomar? \nDå är du varmt välkommen att vara med i Glow som träffas i EFS-kyrkan på fredagar klockan 17.30. \nHar du några frågor så kontakta vår barn-och ungdomsledare Sara Rigby på 076-492 78 28 eller sara.rigby@efs.nu
URL:https://efs-kyrkan.info/kalender/dansgruppen-glow-4/2025-03-21/
END:VEVENT
BEGIN:VEVENT
DTSTART;TZID=Europe/Stockholm:20250321T164500
DTEND;TZID=Europe/Stockholm:20250321T173000
DTSTAMP:20260420T200650
CREATED:20250102T150148Z
LAST-MODIFIED:20250326T191606Z
UID:10003929-1742575500-1742578200@efs-kyrkan.info
SUMMARY:Dansgruppen Sunshine
DESCRIPTION:Är du mellan sju och elva år och gillar att dansa? Då har du chansen att göra detta i dansgruppen Sunshine! \nPå fredagar klockan 16.45-17.30 är du välkommen till EFS-kyrkan för att dansa och ha roligt. \nHar du några frågor så kontakta vår barn- och ungdomsledare Sara Rigby på 076-492 78 28 eller sara.rigby@efs.nu
URL:https://efs-kyrkan.info/kalender/dansgruppen-sunshine-6/2025-03-21/
END:VEVENT
BEGIN:VEVENT
DTSTART;TZID=Europe/Stockholm:20250320T080000
DTEND;TZID=Europe/Stockholm:20250320T090000
DTSTAMP:20260420T200650
CREATED:20250102T151336Z
LAST-MODIFIED:20250102T151336Z
UID:10003992-1742457600-1742461200@efs-kyrkan.info
SUMMARY:Morgonbön
DESCRIPTION:Varje torsdagsmorgon samlas vi till bön och ber för alla i församlingen och för aktuella böneämnen.\nVi ber för våra syskon i de andra kyrkorna och får inleda dagen tillsammans inför Herren.\nEfter bönen finns det fika till dem som vill. \nVälkommen!
URL:https://efs-kyrkan.info/kalender/morgonbon-82/2025-03-20/
END:VEVENT
BEGIN:VEVENT
DTSTART;TZID=Europe/Stockholm:20250319T190000
DTEND;TZID=Europe/Stockholm:20250319T193000
DTSTAMP:20260420T200650
CREATED:20250103T162250Z
LAST-MODIFIED:20250301T123108Z
UID:10004038-1742410800-1742412600@efs-kyrkan.info
SUMMARY:Veckomässa
DESCRIPTION:Mitt i veckan får vi samlas inför Jesus kors för att ta emot nattvardsgåvorna\, lyssna till Bibelordet\, sjunga och be. \nVälkommen att vara med på veckomässan denna onsdag klockan 19.
URL:https://efs-kyrkan.info/kalender/veckomassa-25/2025-03-19/
END:VEVENT
BEGIN:VEVENT
DTSTART;TZID=Europe/Stockholm:20250319T170000
DTEND;TZID=Europe/Stockholm:20250319T190000
DTSTAMP:20260420T200650
CREATED:20250130T171333Z
LAST-MODIFIED:20250408T193725Z
UID:10004024-1742403600-1742410800@efs-kyrkan.info
SUMMARY:Kvinnoträff
DESCRIPTION:Varannan onsdag mellan klockan 17 och 19 öppnar vi upp kyrkan för en träff som är inriktad på att möta kvinnor och barns behov i vardagen.\nTillsammans äter vi en måltid\, samtalar och bara är i varandras sällskap. I lugn och ro kan vi möta varandra för att ge stöd och råd\, lära av varandra men också för att ha roligt och trevligt tillsammans.\nBarnen har egna aktiviteter tillsammans med ledare som hittar på roliga saker för dem. \nHar du frågor så kontakta Birgitta Jarbo: 073-3449111 eller birgitta.jarbo@efs-kyrkan.info \n \n 
URL:https://efs-kyrkan.info/kalender/kvinnotraff-75/2025-03-19/
END:VEVENT
BEGIN:VEVENT
DTSTART;TZID=Europe/Stockholm:20250316T100000
DTEND;TZID=Europe/Stockholm:20250316T113000
DTSTAMP:20260420T200650
CREATED:20250102T090131Z
LAST-MODIFIED:20250530T190204Z
UID:10003908-1742119200-1742124600@efs-kyrkan.info
SUMMARY:Gudstjänst
DESCRIPTION:Välkommen till gudstjänst i EFS-kyrkan på Metallgatan 31 i Ängelholm. \nTillsammans får vi be\, sjunga och fika. \nHar du inte möjlighet att ta dig till kyrkan på Metallgatan 31  kan du följa gudstjänsten via vår livesändning här. 
URL:https://efs-kyrkan.info/kalender/gudstjanst-243/2025-03-16/
END:VEVENT
BEGIN:VEVENT
DTSTART;TZID=Europe/Stockholm:20250314T190000
DTEND;TZID=Europe/Stockholm:20250314T233000
DTSTAMP:20260420T200650
CREATED:20250102T150751Z
LAST-MODIFIED:20250102T150751Z
UID:10003965-1741978800-1741995000@efs-kyrkan.info
SUMMARY:UG
DESCRIPTION:UG är EFS-kyrkans ungdomsgrupp för ungdomar som går i åk 8 och uppåt. \nVi träffas varannan fredag (udda veckor) med start klockan 19. Vi vill vara en mötesplats för ungdomar i och runtomkring Ängelholm. Under en vanlig UG-kväll kan allting hända: tävlingar\, lekar\, filmkväll\, diskussionsgrupper\, ungdomsgudstjänster\, spex och underhållning. Vi vill att UG ska vara en plats där man får lära känna Jesus och växa i sin tro på honom. \nPå UG får alla komma precis som man är. Du är välkommen oavsett om du är kristen eller inte.  \nHoppas att vi ses i EFS-kyrkan. Välkommen! \nUG finns på Facebook\, både som grupp och sida\, och på Instagram ”ugangelholm”
URL:https://efs-kyrkan.info/kalender/ug-53/2025-03-14/
END:VEVENT
BEGIN:VEVENT
DTSTART;TZID=Europe/Stockholm:20250314T173000
DTEND;TZID=Europe/Stockholm:20250314T183000
DTSTAMP:20260420T200650
CREATED:20250102T150938Z
LAST-MODIFIED:20250102T150938Z
UID:10003976-1741973400-1741977000@efs-kyrkan.info
SUMMARY:Fredax
DESCRIPTION:Alla barn som är fem år och uppåt – välkomna till Fredax. Vi träffas varannan fredag (udda veckor) klockan 17.30–18.30 och hittar först på någon rolig aktivitet som lek\, pyssel\, bakning\, spel eller liknande och sen har vi en andakt på slutet och pratar om vem Jesus är. \nVälkomna! \nHar ni frågor så kontakta Lena Strömblad på telefon 076-106 00 98.
URL:https://efs-kyrkan.info/kalender/fredax-60/2025-03-14/
END:VEVENT
BEGIN:VEVENT
DTSTART;TZID=Europe/Stockholm:20250314T173000
DTEND;TZID=Europe/Stockholm:20250314T183000
DTSTAMP:20260420T200650
CREATED:20250102T150434Z
LAST-MODIFIED:20250326T191656Z
UID:10003949-1741973400-1741977000@efs-kyrkan.info
SUMMARY:Dansgruppen Glow
DESCRIPTION:Tycker du om att dansa och röra dig till musik? Vill du lovsjunga Jesus med hela din kropp? Går du dessutom i årskurs sex eller högre och vill göra allt detta tillsammans med ett härligt gäng ungdomar? \nDå är du varmt välkommen att vara med i Glow som träffas i EFS-kyrkan på fredagar klockan 17.30. \nHar du några frågor så kontakta vår barn-och ungdomsledare Sara Rigby på 076-492 78 28 eller sara.rigby@efs.nu
URL:https://efs-kyrkan.info/kalender/dansgruppen-glow-4/2025-03-14/
END:VEVENT
BEGIN:VEVENT
DTSTART;TZID=Europe/Stockholm:20250314T164500
DTEND;TZID=Europe/Stockholm:20250314T173000
DTSTAMP:20260420T200650
CREATED:20250102T150148Z
LAST-MODIFIED:20250326T191606Z
UID:10003928-1741970700-1741973400@efs-kyrkan.info
SUMMARY:Dansgruppen Sunshine
DESCRIPTION:Är du mellan sju och elva år och gillar att dansa? Då har du chansen att göra detta i dansgruppen Sunshine! \nPå fredagar klockan 16.45-17.30 är du välkommen till EFS-kyrkan för att dansa och ha roligt. \nHar du några frågor så kontakta vår barn- och ungdomsledare Sara Rigby på 076-492 78 28 eller sara.rigby@efs.nu
URL:https://efs-kyrkan.info/kalender/dansgruppen-sunshine-6/2025-03-14/
END:VEVENT
BEGIN:VEVENT
DTSTART;TZID=Europe/Stockholm:20250313T080000
DTEND;TZID=Europe/Stockholm:20250313T090000
DTSTAMP:20260420T200650
CREATED:20250102T151336Z
LAST-MODIFIED:20250102T151336Z
UID:10003991-1741852800-1741856400@efs-kyrkan.info
SUMMARY:Morgonbön
DESCRIPTION:Varje torsdagsmorgon samlas vi till bön och ber för alla i församlingen och för aktuella böneämnen.\nVi ber för våra syskon i de andra kyrkorna och får inleda dagen tillsammans inför Herren.\nEfter bönen finns det fika till dem som vill. \nVälkommen!
URL:https://efs-kyrkan.info/kalender/morgonbon-82/2025-03-13/
END:VEVENT
BEGIN:VEVENT
DTSTART;TZID=Europe/Stockholm:20250309T100000
DTEND;TZID=Europe/Stockholm:20250309T113000
DTSTAMP:20260420T200650
CREATED:20250102T090131Z
LAST-MODIFIED:20250530T190204Z
UID:10003907-1741514400-1741519800@efs-kyrkan.info
SUMMARY:Gudstjänst
DESCRIPTION:Välkommen till gudstjänst i EFS-kyrkan på Metallgatan 31 i Ängelholm. \nTillsammans får vi be\, sjunga och fika. \nHar du inte möjlighet att ta dig till kyrkan på Metallgatan 31  kan du följa gudstjänsten via vår livesändning här. 
URL:https://efs-kyrkan.info/kalender/gudstjanst-243/2025-03-09/
END:VEVENT
BEGIN:VEVENT
DTSTART;TZID=Europe/Stockholm:20250308T100000
DTEND;TZID=Europe/Stockholm:20250308T160000
DTSTAMP:20260420T200650
CREATED:20250114T192917Z
LAST-MODIFIED:20250228T144642Z
UID:10004007-1741428000-1741449600@efs-kyrkan.info
SUMMARY:Bibeldag med Jonas Nordén
DESCRIPTION:Hopp i en trasig värld – att tyda tidens tecken \nGenom Bibeln blir vi förberedda på att tiden innan Jesu återkomst kommer att vara skakig och vi uppmanas att vara vaksamma och förberedda och inte låta oss skrämmas. Men hur ska vi förstå de tecken som Skriften talar om? Hur sållar vi bland alla röster och teorier? Hur ska vi förstå profeternas och Jesu ord om den ”sista tiden”\, tusenårsriket\, antikrist\, odjuret och dess märke. \nUnder lördagen den 8 mars får Jonas Nordén\, nybliven inspiratör i Salt\, vägleda oss igenom dessa frågor. Han kommer undervisa om hur vi kan förstå Bibelns ord och hur vi med hjälp av detta kan förstå händelserna i vår tid och omvärld. \nDagen börjar med drop-in-kaffe klockan 10 och sedan blir det ett föredrag på förmiddagen\, gemensam lunch\, ytterligare ett föredrag med frågestund och sen avslutas dagen med fika och samtal. \nLunch och fika serveras till självkostnadspris\, anmäl om du behöver specialkost. I övrigt behövs ingen anmälan till dagen. \nFörbered dig gärna genom att läsa Matteusevangeliet 24-25\, Uppenbarelseboken12-13 och 19-20.
URL:https://efs-kyrkan.info/kalender/bibeldag-med-jonas-norden/
END:VEVENT
BEGIN:VEVENT
DTSTART;TZID=Europe/Stockholm:20250307T190000
DTEND;TZID=Europe/Stockholm:20250307T210000
DTSTAMP:20260420T200650
CREATED:20250130T170955Z
LAST-MODIFIED:20250327T094828Z
UID:10004013-1741374000-1741381200@efs-kyrkan.info
SUMMARY:Light
DESCRIPTION:Light är tonårsgruppen för dig som går i åk 5–7. \nVi träffas i kyrkan varannan fredag klockan 19-21 (jämna veckor) och har roligt! Vi leker\, tävlar och pratar om viktiga saker.\nVarje gång fikar vi och samlas till en andakt där vi pratar om Jesus. \nVälkomna!
URL:https://efs-kyrkan.info/kalender/light-69/2025-03-07/
END:VEVENT
BEGIN:VEVENT
DTSTART;TZID=Europe/Stockholm:20250307T173000
DTEND;TZID=Europe/Stockholm:20250307T183000
DTSTAMP:20260420T200650
CREATED:20250102T150434Z
LAST-MODIFIED:20250326T191656Z
UID:10003948-1741368600-1741372200@efs-kyrkan.info
SUMMARY:Dansgruppen Glow
DESCRIPTION:Tycker du om att dansa och röra dig till musik? Vill du lovsjunga Jesus med hela din kropp? Går du dessutom i årskurs sex eller högre och vill göra allt detta tillsammans med ett härligt gäng ungdomar? \nDå är du varmt välkommen att vara med i Glow som träffas i EFS-kyrkan på fredagar klockan 17.30. \nHar du några frågor så kontakta vår barn-och ungdomsledare Sara Rigby på 076-492 78 28 eller sara.rigby@efs.nu
URL:https://efs-kyrkan.info/kalender/dansgruppen-glow-4/2025-03-07/
END:VEVENT
BEGIN:VEVENT
DTSTART;TZID=Europe/Stockholm:20250307T164500
DTEND;TZID=Europe/Stockholm:20250307T173000
DTSTAMP:20260420T200650
CREATED:20250102T150148Z
LAST-MODIFIED:20250326T191606Z
UID:10003927-1741365900-1741368600@efs-kyrkan.info
SUMMARY:Dansgruppen Sunshine
DESCRIPTION:Är du mellan sju och elva år och gillar att dansa? Då har du chansen att göra detta i dansgruppen Sunshine! \nPå fredagar klockan 16.45-17.30 är du välkommen till EFS-kyrkan för att dansa och ha roligt. \nHar du några frågor så kontakta vår barn- och ungdomsledare Sara Rigby på 076-492 78 28 eller sara.rigby@efs.nu
URL:https://efs-kyrkan.info/kalender/dansgruppen-sunshine-6/2025-03-07/
END:VEVENT
BEGIN:VEVENT
DTSTART;TZID=Europe/Stockholm:20250306T080000
DTEND;TZID=Europe/Stockholm:20250306T090000
DTSTAMP:20260420T200650
CREATED:20250102T151336Z
LAST-MODIFIED:20250102T151336Z
UID:10003990-1741248000-1741251600@efs-kyrkan.info
SUMMARY:Morgonbön
DESCRIPTION:Varje torsdagsmorgon samlas vi till bön och ber för alla i församlingen och för aktuella böneämnen.\nVi ber för våra syskon i de andra kyrkorna och får inleda dagen tillsammans inför Herren.\nEfter bönen finns det fika till dem som vill. \nVälkommen!
URL:https://efs-kyrkan.info/kalender/morgonbon-82/2025-03-06/
END:VEVENT
BEGIN:VEVENT
DTSTART;TZID=Europe/Stockholm:20250305T190000
DTEND;TZID=Europe/Stockholm:20250305T193000
DTSTAMP:20260420T200650
CREATED:20250103T162250Z
LAST-MODIFIED:20250301T123108Z
UID:10004037-1741201200-1741203000@efs-kyrkan.info
SUMMARY:Veckomässa
DESCRIPTION:Mitt i veckan får vi samlas inför Jesus kors för att ta emot nattvardsgåvorna\, lyssna till Bibelordet\, sjunga och be. \nVälkommen att vara med på veckomässan denna onsdag klockan 19.
URL:https://efs-kyrkan.info/kalender/veckomassa-25/2025-03-05/
END:VEVENT
BEGIN:VEVENT
DTSTART;TZID=Europe/Stockholm:20250305T170000
DTEND;TZID=Europe/Stockholm:20250305T190000
DTSTAMP:20260420T200650
CREATED:20250130T171333Z
LAST-MODIFIED:20250408T193725Z
UID:10004023-1741194000-1741201200@efs-kyrkan.info
SUMMARY:Kvinnoträff
DESCRIPTION:Varannan onsdag mellan klockan 17 och 19 öppnar vi upp kyrkan för en träff som är inriktad på att möta kvinnor och barns behov i vardagen.\nTillsammans äter vi en måltid\, samtalar och bara är i varandras sällskap. I lugn och ro kan vi möta varandra för att ge stöd och råd\, lära av varandra men också för att ha roligt och trevligt tillsammans.\nBarnen har egna aktiviteter tillsammans med ledare som hittar på roliga saker för dem. \nHar du frågor så kontakta Birgitta Jarbo: 073-3449111 eller birgitta.jarbo@efs-kyrkan.info \n \n 
URL:https://efs-kyrkan.info/kalender/kvinnotraff-75/2025-03-05/
END:VEVENT
BEGIN:VEVENT
DTSTART;TZID=Europe/Stockholm:20250302T100000
DTEND;TZID=Europe/Stockholm:20250302T113000
DTSTAMP:20260420T200650
CREATED:20250215T150106Z
LAST-MODIFIED:20250228T103257Z
UID:10003906-1740909600-1740915000@efs-kyrkan.info
SUMMARY:Gudstjänst
DESCRIPTION:Välkommen till gudstjänst i EFS-kyrkan på Metallgatan 31 i Ängelholm. \nIdag inleder vi en ny temaserie. Under fem söndagar stannar vi upp inför att ”Leva i livets rytm” och denna söndag är underrubriken längtan. Magnus Lennartsson predikar\, barnen har söndagsskola och tillsammans får vi be\, sjunga och fika. \nHar du inte möjlighet att ta dig till kyrkan på Metallgatan 31  kan du följa gudstjänsten via vår livesändning här. 
URL:https://efs-kyrkan.info/kalender/gudstjanst-243-9/
END:VEVENT
BEGIN:VEVENT
DTSTART;TZID=Europe/Stockholm:20250228T190000
DTEND;TZID=Europe/Stockholm:20250228T233000
DTSTAMP:20260420T200650
CREATED:20250102T150751Z
LAST-MODIFIED:20250102T150751Z
UID:10003964-1740769200-1740785400@efs-kyrkan.info
SUMMARY:UG
DESCRIPTION:UG är EFS-kyrkans ungdomsgrupp för ungdomar som går i åk 8 och uppåt. \nVi träffas varannan fredag (udda veckor) med start klockan 19. Vi vill vara en mötesplats för ungdomar i och runtomkring Ängelholm. Under en vanlig UG-kväll kan allting hända: tävlingar\, lekar\, filmkväll\, diskussionsgrupper\, ungdomsgudstjänster\, spex och underhållning. Vi vill att UG ska vara en plats där man får lära känna Jesus och växa i sin tro på honom. \nPå UG får alla komma precis som man är. Du är välkommen oavsett om du är kristen eller inte.  \nHoppas att vi ses i EFS-kyrkan. Välkommen! \nUG finns på Facebook\, både som grupp och sida\, och på Instagram ”ugangelholm”
URL:https://efs-kyrkan.info/kalender/ug-53/2025-02-28/
END:VEVENT
BEGIN:VEVENT
DTSTART;TZID=Europe/Stockholm:20250228T173000
DTEND;TZID=Europe/Stockholm:20250228T183000
DTSTAMP:20260420T200650
CREATED:20250102T150938Z
LAST-MODIFIED:20250102T150938Z
UID:10003975-1740763800-1740767400@efs-kyrkan.info
SUMMARY:Fredax
DESCRIPTION:Alla barn som är fem år och uppåt – välkomna till Fredax. Vi träffas varannan fredag (udda veckor) klockan 17.30–18.30 och hittar först på någon rolig aktivitet som lek\, pyssel\, bakning\, spel eller liknande och sen har vi en andakt på slutet och pratar om vem Jesus är. \nVälkomna! \nHar ni frågor så kontakta Lena Strömblad på telefon 076-106 00 98.
URL:https://efs-kyrkan.info/kalender/fredax-60/2025-02-28/
END:VEVENT
BEGIN:VEVENT
DTSTART;TZID=Europe/Stockholm:20250228T173000
DTEND;TZID=Europe/Stockholm:20250228T183000
DTSTAMP:20260420T200650
CREATED:20250102T150434Z
LAST-MODIFIED:20250326T191656Z
UID:10003947-1740763800-1740767400@efs-kyrkan.info
SUMMARY:Dansgruppen Glow
DESCRIPTION:Tycker du om att dansa och röra dig till musik? Vill du lovsjunga Jesus med hela din kropp? Går du dessutom i årskurs sex eller högre och vill göra allt detta tillsammans med ett härligt gäng ungdomar? \nDå är du varmt välkommen att vara med i Glow som träffas i EFS-kyrkan på fredagar klockan 17.30. \nHar du några frågor så kontakta vår barn-och ungdomsledare Sara Rigby på 076-492 78 28 eller sara.rigby@efs.nu
URL:https://efs-kyrkan.info/kalender/dansgruppen-glow-4/2025-02-28/
END:VEVENT
BEGIN:VEVENT
DTSTART;TZID=Europe/Stockholm:20250228T164500
DTEND;TZID=Europe/Stockholm:20250228T173000
DTSTAMP:20260420T200650
CREATED:20250102T150148Z
LAST-MODIFIED:20250326T191606Z
UID:10003926-1740761100-1740763800@efs-kyrkan.info
SUMMARY:Dansgruppen Sunshine
DESCRIPTION:Är du mellan sju och elva år och gillar att dansa? Då har du chansen att göra detta i dansgruppen Sunshine! \nPå fredagar klockan 16.45-17.30 är du välkommen till EFS-kyrkan för att dansa och ha roligt. \nHar du några frågor så kontakta vår barn- och ungdomsledare Sara Rigby på 076-492 78 28 eller sara.rigby@efs.nu
URL:https://efs-kyrkan.info/kalender/dansgruppen-sunshine-6/2025-02-28/
END:VEVENT
BEGIN:VEVENT
DTSTART;TZID=Europe/Stockholm:20250227T080000
DTEND;TZID=Europe/Stockholm:20250227T090000
DTSTAMP:20260420T200650
CREATED:20250102T151336Z
LAST-MODIFIED:20250102T151336Z
UID:10003989-1740643200-1740646800@efs-kyrkan.info
SUMMARY:Morgonbön
DESCRIPTION:Varje torsdagsmorgon samlas vi till bön och ber för alla i församlingen och för aktuella böneämnen.\nVi ber för våra syskon i de andra kyrkorna och får inleda dagen tillsammans inför Herren.\nEfter bönen finns det fika till dem som vill. \nVälkommen!
URL:https://efs-kyrkan.info/kalender/morgonbon-82/2025-02-27/
END:VEVENT
END:VCALENDAR